BEGIN:VCALENDAR
VERSION:2.0
PRODID:-//My Shiny Castle - ECPv6.14.2//NONSGML v1.0//EN
CALSCALE:GREGORIAN
METHOD:PUBLISH
X-WR-CALNAME:My Shiny Castle
X-ORIGINAL-URL:https://myshinycastle.com
X-WR-CALDESC:Events for My Shiny Castle
REFRESH-INTERVAL;VALUE=DURATION:PT1H
X-Robots-Tag:noindex
X-PUBLISHED-TTL:PT1H
BEGIN:VTIMEZONE
TZID:America/Vancouver
BEGIN:DAYLIGHT
TZOFFSETFROM:-0800
TZOFFSETTO:-0700
TZNAME:PDT
DTSTART:20250309T100000
END:DAYLIGHT
BEGIN:STANDARD
TZOFFSETFROM:-0700
TZOFFSETTO:-0800
TZNAME:PST
DTSTART:20251102T090000
END:STANDARD
END:VTIMEZONE
BEGIN:VEVENT
DTSTART;TZID=America/Vancouver:20251107T180000
DTEND;TZID=America/Vancouver:20251107T210000
DTSTAMP:20260425T193726
CREATED:20251019T000305Z
LAST-MODIFIED:20251106T191450Z
UID:1726-1762538400-1762549200@myshinycastle.com
SUMMARY:[CANCELED] Social Crafting Meetup
DESCRIPTION:UPDATE: Sorry\, but this session needs to be canceled. We will be back on schedule with our next meetup in 2 weeks. \nBring your favorite craft and join us for a couple of hours of socializing and crafting. For those that are interested\, we will have materials available for making Fairy Houses out of natural materials.
URL:https://myshinycastle.com/event/social-crafting-meetup-2/
LOCATION:Hollyhills Event Center (Downstairs)\, 19200 Hollyhills Dr NE\, Bothell\, WA\, 98021\, United States
ATTACH;FMTTYPE=image/jpeg:https://myshinycastle.com/wp-content/uploads/2025/10/fairy-house-scaled.jpg
ORGANIZER;CN="Kim Gronquist":MAILTO:kim@myshinycastle.com
END:VEVENT
BEGIN:VEVENT
DTSTART;TZID=America/Vancouver:20251109T130000
DTEND;TZID=America/Vancouver:20251109T160000
DTSTAMP:20260425T193726
CREATED:20251018T235027Z
LAST-MODIFIED:20251018T235547Z
UID:1721-1762693200-1762704000@myshinycastle.com
SUMMARY:Class: Crochet Mushrooms
DESCRIPTION:Get ready to grow your crochet skills — literally! \nJoin us for a hands-on crochet workshop where you’ll learn essential shaping techniques while making the most adorable mushrooms\, including a mushroom-shaped lip balm holder option. This small but mighty project is perfect for exploring how to sculpt and shape crochet pieces\, and you’ll walk away with a cute\, functional creation to clip to your bag or gift to a friend! \nAll skill levels are welcome! If you can chain\, single crochet\, and work in the round\, you’ll do great. Beginners will gain confidence in shaping\, and experienced crocheters will enjoy a fun\, fast project that’s full of charm.
URL:https://myshinycastle.com/event/class-crochet-mushrooms/
LOCATION:Ben Franklin Crafts\, 19505 US-2\, Monroe\, WA\, 98272\, United States
ATTACH;FMTTYPE=image/png:https://myshinycastle.com/wp-content/uploads/2025/10/Mushroom.png
ORGANIZER;CN="Kim Gronquist":MAILTO:kim@myshinycastle.com
END:VEVENT
BEGIN:VEVENT
DTSTART;TZID=America/Vancouver:20251121T180000
DTEND;TZID=America/Vancouver:20251121T210000
DTSTAMP:20260425T193726
CREATED:20251019T000812Z
LAST-MODIFIED:20251027T034348Z
UID:1731-1763748000-1763758800@myshinycastle.com
SUMMARY:Crochet Guild & Social Crafting Meetup
DESCRIPTION:Bring your favorite craft and join us for a couple of hours of socializing and crafting.\n\nThis meeting we will be diving into the cozy world of plush yarns! These super-soft yarns make the cutest plushies—but they can also be a little tricky to work with. We’ll be sharing our favorite tips and techniques.\n\nBring a project you’re working on (plush or not!) or start something new with the group. As always\, there will be plenty of time to chat\, share ideas\, and enjoy some creative company.
URL:https://myshinycastle.com/event/social-crafting-meetup-3/
LOCATION:Hollyhills Event Center (Downstairs)\, 19200 Hollyhills Dr NE\, Bothell\, WA\, 98021\, United States
ATTACH;FMTTYPE=image/png:https://myshinycastle.com/wp-content/uploads/2025/10/WEB-Plush-Techniques.png
ORGANIZER;CN="Kim Gronquist":MAILTO:kim@myshinycastle.com
END:VEVENT
END:VCALENDAR