BEGIN:VCALENDAR
VERSION:2.0
PRODID:-//My Shiny Castle - ECPv6.14.2//NONSGML v1.0//EN
CALSCALE:GREGORIAN
METHOD:PUBLISH
X-WR-CALNAME:My Shiny Castle
X-ORIGINAL-URL:https://myshinycastle.com
X-WR-CALDESC:Events for My Shiny Castle
REFRESH-INTERVAL;VALUE=DURATION:PT1H
X-Robots-Tag:noindex
X-PUBLISHED-TTL:PT1H
BEGIN:VTIMEZONE
TZID:America/Vancouver
BEGIN:DAYLIGHT
TZOFFSETFROM:-0800
TZOFFSETTO:-0700
TZNAME:PDT
DTSTART:20250309T100000
END:DAYLIGHT
BEGIN:STANDARD
TZOFFSETFROM:-0700
TZOFFSETTO:-0800
TZNAME:PST
DTSTART:20251102T090000
END:STANDARD
END:VTIMEZONE
BEGIN:VEVENT
DTSTART;TZID=America/Vancouver:20251031T173000
DTEND;TZID=America/Vancouver:20251031T193000
DTSTAMP:20260423T230306
CREATED:20251019T002011Z
LAST-MODIFIED:20251019T002011Z
UID:1734-1761931800-1761939000@myshinycastle.com
SUMMARY:Halloween Event
DESCRIPTION:Join us on Halloween (Friday\, October 31st) for a night of games\, crafting\, candy & fun!\n\n\n\n\n\nShiny Castle Home & Craft will have activities for all ages\, including tote bags to decorate\, halloween jewelry to craft\, free Claw Machine\, free Raffle prizes and fun Carnival Games.\n\nThere will also be a Trunk-or-Treat event in the parking lot!
URL:https://myshinycastle.com/event/halloween-event/
LOCATION:Hollyhills Event Center (Downstairs)\, 19200 Hollyhills Dr NE\, Bothell\, WA\, 98021\, United States
ATTACH;FMTTYPE=image/png:https://myshinycastle.com/wp-content/uploads/2025/10/2025-Hollyhills-Halloween-Party.png
ORGANIZER;CN="Kim Gronquist":MAILTO:kim@myshinycastle.com
END:VEVENT
BEGIN:VEVENT
DTSTART;TZID=America/Vancouver:20251024T183000
DTEND;TZID=America/Vancouver:20251024T210000
DTSTAMP:20260423T230306
CREATED:20251018T230935Z
LAST-MODIFIED:20251019T000910Z
UID:1717-1761330600-1761339600@myshinycastle.com
SUMMARY:Class: Halloween Plush
DESCRIPTION:Let’s make some Halloween Plush. Using larger yarn makes these work up really quickly. We will also learn some great techniques including: Magic Ring\, Invisible decreases\, using X vs V stitches to get a finished look\, and simple shaping formulas. This class works well for beginners who are confident holding the hook and making basic stitches (slip stitch\, single crochet\, double crochet) who are ready to expand their skills. \nRegistration Required (48 hours prior)
URL:https://myshinycastle.com/event/class-crafting-after-dark/
LOCATION:Ben Franklin Crafts\, 19505 US-2\, Monroe\, WA\, 98272\, United States
ATTACH;FMTTYPE=image/png:https://myshinycastle.com/wp-content/uploads/2025/10/Website-Pattern-Release-Images.png
ORGANIZER;CN="Kim Gronquist":MAILTO:kim@myshinycastle.com
END:VEVENT
BEGIN:VEVENT
DTSTART;TZID=America/Vancouver:20251017T180000
DTEND;TZID=America/Vancouver:20251017T210000
DTSTAMP:20260423T230306
CREATED:20251013T054922Z
LAST-MODIFIED:20251018T235329Z
UID:1708-1760724000-1760734800@myshinycastle.com
SUMMARY:Crochet Guild & Social Crafting Meetup
DESCRIPTION:Bring your favorite craft and join us for a couple of hours of socializing and crafting. For those that are interested\, we will have a breakout session to learn about Upcycling garments using Crochet.
URL:https://myshinycastle.com/event/crochet-guild-social-crafting-meetup/
LOCATION:Hollyhills Event Center (Downstairs)\, 19200 Hollyhills Dr NE\, Bothell\, WA\, 98021\, United States
ATTACH;FMTTYPE=image/png:https://myshinycastle.com/wp-content/uploads/2025/10/Crochet-Guild.png
END:VEVENT
BEGIN:VEVENT
DTSTART;TZID=America/Vancouver:20250919T180000
DTEND;TZID=America/Vancouver:20250919T210000
DTSTAMP:20260423T230306
CREATED:20250813T222836Z
LAST-MODIFIED:20250813T222929Z
UID:1669-1758304800-1758315600@myshinycastle.com
SUMMARY:Crochet Guild & Social Crafting Meetup
DESCRIPTION:Bring your favorite craft and join us for a couple of hours of socializing and crafting. For those that are interested\, we will have a breakout session to learn about Tapestry crochet.
URL:https://myshinycastle.com/event/1669/
LOCATION:Hollyhills Event Center (Downstairs)\, 19200 Hollyhills Dr NE\, Bothell\, WA\, 98021\, United States
ORGANIZER;CN="Kim Gronquist":MAILTO:kim@myshinycastle.com
END:VEVENT
BEGIN:VEVENT
DTSTART;TZID=America/Vancouver:20250906T120000
DTEND;TZID=America/Vancouver:20250906T160000
DTSTAMP:20260423T230306
CREATED:20250814T025302Z
LAST-MODIFIED:20250814T025302Z
UID:1682-1757160000-1757174400@myshinycastle.com
SUMMARY:Kenmore Children's Business Fair
DESCRIPTION:Come out and help me support our younger members of the new Queer Craft Collective at the Kenmore Children’s Business Fair.
URL:https://myshinycastle.com/event/kenmore-childrens-business-fair/
LOCATION:WA
ORGANIZER;CN="Kim Gronquist":MAILTO:kim@myshinycastle.com
END:VEVENT
BEGIN:VEVENT
DTSTART;TZID=America/Vancouver:20250905T180000
DTEND;TZID=America/Vancouver:20250905T210000
DTSTAMP:20260423T230306
CREATED:20250813T222633Z
LAST-MODIFIED:20250813T222633Z
UID:1666-1757095200-1757106000@myshinycastle.com
SUMMARY:Social Crafting Meetup
DESCRIPTION:Bring your favorite craft and join us for a couple of hours of socializing and crafting. Light refreshments provided.
URL:https://myshinycastle.com/event/social-crafting-meetup/
LOCATION:Hollyhills Event Center (Downstairs)\, 19200 Hollyhills Dr NE\, Bothell\, WA\, 98021\, United States
ORGANIZER;CN="Kim Gronquist":MAILTO:kim@myshinycastle.com
END:VEVENT
BEGIN:VEVENT
DTSTART;TZID=America/Vancouver:20250830T120000
DTEND;TZID=America/Vancouver:20250830T170000
DTSTAMP:20260423T230306
CREATED:20250814T025040Z
LAST-MODIFIED:20250814T025040Z
UID:1678-1756555200-1756573200@myshinycastle.com
SUMMARY:Redmond Pride - Booth #5
DESCRIPTION:Shiny Castle won’t have a booth at Redmond Pride this year\, but we will be there supporting the new “Queer Craft Collective”. This is a new not-for-profit business that was started to help teens and young adults by providing a business license and structure that makes it easier for them to sell their handmade items at local craft fairs.\n\nCome out and show your support. I would love to see you there!\n\n\nNote: They will have shuttles from parking areas as well.
URL:https://myshinycastle.com/event/redmond-pride-booth-5/
LOCATION:Redmond Downtown Park\, 16101 Redmond Way\, Redmond\, WA\, 98052\, United States
ORGANIZER;CN="Kim Gronquist":MAILTO:kim@myshinycastle.com
END:VEVENT
BEGIN:VEVENT
DTSTART;TZID=America/Vancouver:20250829T180000
DTEND;TZID=America/Vancouver:20250829T210000
DTSTAMP:20260423T230306
CREATED:20250813T222402Z
LAST-MODIFIED:20250813T222510Z
UID:1660-1756490400-1756501200@myshinycastle.com
SUMMARY:Game Night
DESCRIPTION:Join us for a Game Night in our usual meeting space. Light refreshments provided\, and we will have a bunch of card and board games\, but feel free to bring something if you prefer.
URL:https://myshinycastle.com/event/game-night/
LOCATION:Hollyhills Event Center (Downstairs)\, 19200 Hollyhills Dr NE\, Bothell\, WA\, 98021\, United States
ORGANIZER;CN="Kim Gronquist":MAILTO:kim@myshinycastle.com
END:VEVENT
BEGIN:VEVENT
DTSTART;TZID=America/Vancouver:20250815T180000
DTEND;TZID=America/Vancouver:20250815T210000
DTSTAMP:20260423T230306
CREATED:20250813T221528Z
LAST-MODIFIED:20250813T222948Z
UID:1651-1755280800-1755291600@myshinycastle.com
SUMMARY:Crochet Guild & Social Crafting Meetup
DESCRIPTION:Bring your favorite craft and join us for a couple of hours of socializing and crafting. For those that are interested\, we will have a breakout session to learn the Waffle stitch to make fun textured items like Dishcloths.
URL:https://myshinycastle.com/event/social-crafting-crochet-guild-meetup/
LOCATION:Hollyhills Event Center (Downstairs)\, 19200 Hollyhills Dr NE\, Bothell\, WA\, 98021\, United States
END:VEVENT
END:VCALENDAR