BEGIN:VCALENDAR
VERSION:2.0
PRODID:-//My Shiny Castle - ECPv6.14.2//NONSGML v1.0//EN
CALSCALE:GREGORIAN
METHOD:PUBLISH
X-ORIGINAL-URL:https://myshinycastle.com
X-WR-CALDESC:Events for My Shiny Castle
REFRESH-INTERVAL;VALUE=DURATION:PT1H
X-Robots-Tag:noindex
X-PUBLISHED-TTL:PT1H
BEGIN:VTIMEZONE
TZID:America/Vancouver
BEGIN:DAYLIGHT
TZOFFSETFROM:-0800
TZOFFSETTO:-0700
TZNAME:PDT
DTSTART:20260308T100000
END:DAYLIGHT
BEGIN:STANDARD
TZOFFSETFROM:-0700
TZOFFSETTO:-0800
TZNAME:PST
DTSTART:20261101T090000
END:STANDARD
END:VTIMEZONE
BEGIN:VEVENT
DTSTART;TZID=America/Vancouver:20260111T100000
DTEND;TZID=America/Vancouver:20260111T120000
DTSTAMP:20260423T151936
CREATED:20260105T032924Z
LAST-MODIFIED:20260105T034027Z
UID:2130-1768125600-1768132800@myshinycastle.com
SUMMARY:Learn to Crochet on Twitch
DESCRIPTION:Come join me online to see what I am working on\, ask your crafting questions\, or just hang out. Whether you are an absolute beginner or a seasoned crocheter\, we will have a great time!
URL:https://myshinycastle.com/event/learn-to-crochet/
LOCATION:WA
ATTACH;FMTTYPE=image/png:https://myshinycastle.com/wp-content/uploads/2026/01/Twitch-Schedule.png
END:VEVENT
BEGIN:VEVENT
DTSTART;TZID=America/Vancouver:20260113T180000
DTEND;TZID=America/Vancouver:20260113T200000
DTSTAMP:20260423T151936
CREATED:20260103T074852Z
LAST-MODIFIED:20260105T034003Z
UID:2127-1768327200-1768334400@myshinycastle.com
SUMMARY:Learn to Crochet on Twitch
DESCRIPTION:Come join me online to see what I am working on\, ask your crafting questions\, or just hang out. Whether you are an absolute beginner or a seasoned crocheter\, we will have a great time!
URL:https://myshinycastle.com/event/live-crochet-on-twitch-2/
LOCATION:WA
ATTACH;FMTTYPE=image/png:https://myshinycastle.com/wp-content/uploads/2026/01/Twitch-Schedule.png
END:VEVENT
BEGIN:VEVENT
DTSTART;TZID=America/Vancouver:20260116T180000
DTEND;TZID=America/Vancouver:20260116T210000
DTSTAMP:20260423T151936
CREATED:20260103T074025Z
LAST-MODIFIED:20260103T074025Z
UID:2114-1768586400-1768597200@myshinycastle.com
SUMMARY:Crochet Guild & Social Crafting Meetup
DESCRIPTION:Bring your favorite craft and join us for a couple of hours of socializing and crafting.
URL:https://myshinycastle.com/event/crochet-guild-social-crafting-meetup-3/
LOCATION:Hollyhills Event Center (Downstairs)\, 19200 Hollyhills Dr NE\, Bothell\, WA\, 98021\, United States
ATTACH;FMTTYPE=image/png:https://myshinycastle.com/wp-content/uploads/2025/08/Crochet-Guild-Social-Crafting-Event-Cover.png
END:VEVENT
BEGIN:VEVENT
DTSTART;TZID=America/Vancouver:20260118T100000
DTEND;TZID=America/Vancouver:20260118T120000
DTSTAMP:20260423T151936
CREATED:20260105T034150Z
LAST-MODIFIED:20260105T034150Z
UID:2134-1768730400-1768737600@myshinycastle.com
SUMMARY:Learn to Crochet on Twitch
DESCRIPTION:Come join me online to see what I am working on\, ask your crafting questions\, or just hang out. Whether you are an absolute beginner or a seasoned crocheter\, we will have a great time!
URL:https://myshinycastle.com/event/learn-to-crochet-on-twitch/
LOCATION:WA
ATTACH;FMTTYPE=image/png:https://myshinycastle.com/wp-content/uploads/2026/01/Twitch-Schedule.png
END:VEVENT
BEGIN:VEVENT
DTSTART;TZID=America/Vancouver:20260120T180000
DTEND;TZID=America/Vancouver:20260120T200000
DTSTAMP:20260423T151936
CREATED:20260105T034322Z
LAST-MODIFIED:20260105T034322Z
UID:2136-1768932000-1768939200@myshinycastle.com
SUMMARY:Learn to Crochet on Twitch
DESCRIPTION:Come join me online to see what I am working on\, ask your crafting questions\, or just hang out. Whether you are an absolute beginner or a seasoned crocheter\, we will have a great time!
URL:https://myshinycastle.com/event/learn-to-crochet-on-twitch-2/
LOCATION:WA
ATTACH;FMTTYPE=image/png:https://myshinycastle.com/wp-content/uploads/2026/01/Twitch-Schedule.png
END:VEVENT
BEGIN:VEVENT
DTSTART;TZID=America/Vancouver:20260125T100000
DTEND;TZID=America/Vancouver:20260125T120000
DTSTAMP:20260423T151936
CREATED:20260105T034759Z
LAST-MODIFIED:20260105T034759Z
UID:2138-1769335200-1769342400@myshinycastle.com
SUMMARY:Learn to Crochet on Twitch
DESCRIPTION:Come join me online to see what I am working on\, ask your crafting questions\, or just hang out. Whether you are an absolute beginner or a seasoned crocheter\, we will have a great time!
URL:https://myshinycastle.com/event/learn-to-crochet-on-twitch-3/
LOCATION:WA
ATTACH;FMTTYPE=image/png:https://myshinycastle.com/wp-content/uploads/2026/01/Twitch-Schedule.png
END:VEVENT
BEGIN:VEVENT
DTSTART;TZID=America/Vancouver:20260127T180000
DTEND;TZID=America/Vancouver:20260127T200000
DTSTAMP:20260423T151936
CREATED:20260105T034946Z
LAST-MODIFIED:20260105T035936Z
UID:2140-1769536800-1769544000@myshinycastle.com
SUMMARY:Learn to Crochet on Twitch
DESCRIPTION:Come join me online to see what I am working on\, ask your crafting questions\, or just hang out. Whether you are an absolute beginner or a seasoned crocheter\, we will have a great time!
URL:https://myshinycastle.com/event/learn-to-crochet-on-twitch-4/
LOCATION:WA
ATTACH;FMTTYPE=image/png:https://myshinycastle.com/wp-content/uploads/2026/01/Twitch-Schedule.png
END:VEVENT
BEGIN:VEVENT
DTSTART;TZID=America/Vancouver:20260206T180000
DTEND;TZID=America/Vancouver:20260206T210000
DTSTAMP:20260423T151936
CREATED:20260103T074301Z
LAST-MODIFIED:20260103T074301Z
UID:2120-1770400800-1770411600@myshinycastle.com
SUMMARY:Social Crafting Meetup with DIY Bath Bomb workshop
DESCRIPTION:Bring your favorite craft and join us for a couple of hours of socializing and crafting.
URL:https://myshinycastle.com/event/social-crafting-meetup-with-diy-bath-bomb-workshop/
LOCATION:Hollyhills Event Center (Downstairs)\, 19200 Hollyhills Dr NE\, Bothell\, WA\, 98021\, United States
ATTACH;FMTTYPE=image/png:https://myshinycastle.com/wp-content/uploads/2025/01/Bath-Bombs.png
END:VEVENT
BEGIN:VEVENT
DTSTART;TZID=America/Vancouver:20260220T180000
DTEND;TZID=America/Vancouver:20260220T210000
DTSTAMP:20260423T151936
CREATED:20260103T074359Z
LAST-MODIFIED:20260103T074359Z
UID:2122-1771610400-1771621200@myshinycastle.com
SUMMARY:Crochet Guild & Social Crafting Meetup
DESCRIPTION:Bring your favorite craft and join us for a couple of hours of socializing and crafting.
URL:https://myshinycastle.com/event/crochet-guild-social-crafting-meetup-4/
LOCATION:Hollyhills Event Center (Downstairs)\, 19200 Hollyhills Dr NE\, Bothell\, WA\, 98021\, United States
ATTACH;FMTTYPE=image/png:https://myshinycastle.com/wp-content/uploads/2025/08/Crochet-Guild-Social-Crafting-Event-Cover.png
END:VEVENT
BEGIN:VEVENT
DTSTART;TZID=America/Vancouver:20260306T180000
DTEND;TZID=America/Vancouver:20260306T210000
DTSTAMP:20260423T151936
CREATED:20260226T042122Z
LAST-MODIFIED:20260226T042122Z
UID:2205-1772820000-1772830800@myshinycastle.com
SUMMARY:Social Crafting Meetup with Embroidery workshop (& Craft Swap)
DESCRIPTION:Bring your favorite craft and join us for a couple of hours of socializing and crafting.
URL:https://myshinycastle.com/event/social-crafting-meetup-with-embroidery-workshop-craft-swap/
LOCATION:Hollyhills Event Center (Downstairs)\, 19200 Hollyhills Dr NE\, Bothell\, WA\, 98021\, United States
ATTACH;FMTTYPE=image/png:https://myshinycastle.com/wp-content/uploads/2026/02/SC-Mar.png
ORGANIZER;CN="Kim Gronquist":MAILTO:kim@myshinycastle.com
END:VEVENT
BEGIN:VEVENT
DTSTART;TZID=America/Vancouver:20260320T180000
DTEND;TZID=America/Vancouver:20260320T210000
DTSTAMP:20260423T151936
CREATED:20260226T042301Z
LAST-MODIFIED:20260226T042759Z
UID:2212-1774029600-1774040400@myshinycastle.com
SUMMARY:Crochet Guild & Social Crafting Meetup
DESCRIPTION:Bring your favorite craft and join us for a couple of hours of socializing and crafting.
URL:https://myshinycastle.com/event/crochet-guild-social-crafting-meetup-5/
LOCATION:Hollyhills Event Center (Downstairs)\, 19200 Hollyhills Dr NE\, Bothell\, WA\, 98021\, United States
ATTACH;FMTTYPE=image/png:https://myshinycastle.com/wp-content/uploads/2026/02/CG-Mar-1.png
ORGANIZER;CN="Kim Gronquist":MAILTO:kim@myshinycastle.com
END:VEVENT
BEGIN:VEVENT
DTSTART;TZID=America/Vancouver:20260403T180000
DTEND;TZID=America/Vancouver:20260403T210000
DTSTAMP:20260423T151936
CREATED:20260226T042623Z
LAST-MODIFIED:20260226T042623Z
UID:2218-1775239200-1775250000@myshinycastle.com
SUMMARY:Social Crafting Meetup with Hand-sewing workshop
DESCRIPTION:Bring your favorite craft and join us for a couple of hours of socializing and crafting.
URL:https://myshinycastle.com/event/social-crafting-meetup-with-hand-sewing-workshop/
LOCATION:Hollyhills Event Center (Downstairs)\, 19200 Hollyhills Dr NE\, Bothell\, WA\, 98021\, United States
ATTACH;FMTTYPE=image/png:https://myshinycastle.com/wp-content/uploads/2026/02/SC-Apr.png
ORGANIZER;CN="Kim Gronquist":MAILTO:kim@myshinycastle.com
END:VEVENT
BEGIN:VEVENT
DTSTART;TZID=America/Vancouver:20260417T180000
DTEND;TZID=America/Vancouver:20260417T210000
DTSTAMP:20260423T151936
CREATED:20260226T042448Z
LAST-MODIFIED:20260226T042448Z
UID:2216-1776448800-1776459600@myshinycastle.com
SUMMARY:Crochet Guild & Social Crafting Meetup
DESCRIPTION:Bring your favorite craft and join us for a couple of hours of socializing and crafting.
URL:https://myshinycastle.com/event/crochet-guild-social-crafting-meetup-6/
LOCATION:Hollyhills Event Center (Downstairs)\, 19200 Hollyhills Dr NE\, Bothell\, WA\, 98021\, United States
ATTACH;FMTTYPE=image/png:https://myshinycastle.com/wp-content/uploads/2026/02/CG-May.png
ORGANIZER;CN="Kim Gronquist":MAILTO:kim@myshinycastle.com
END:VEVENT
BEGIN:VEVENT
DTSTART;TZID=America/Vancouver:20260501T180000
DTEND;TZID=America/Vancouver:20260501T210000
DTSTAMP:20260423T151936
CREATED:20260226T044311Z
LAST-MODIFIED:20260226T044311Z
UID:2231-1777658400-1777669200@myshinycastle.com
SUMMARY:Social Crafting Meetup
DESCRIPTION:Bring your favorite craft and join us for a couple of hours of socializing and crafting.
URL:https://myshinycastle.com/event/social-crafting-meetup-6/
LOCATION:Hollyhills Event Center (Downstairs)\, 19200 Hollyhills Dr NE\, Bothell\, WA\, 98021\, United States
ATTACH;FMTTYPE=image/png:https://myshinycastle.com/wp-content/uploads/2025/10/Crochet-Guild.png
ORGANIZER;CN="Kim Gronquist":MAILTO:kim@myshinycastle.com
END:VEVENT
BEGIN:VEVENT
DTSTART;TZID=America/Vancouver:20260515T180000
DTEND;TZID=America/Vancouver:20260515T210000
DTSTAMP:20260423T151936
CREATED:20260226T043944Z
LAST-MODIFIED:20260226T043944Z
UID:2227-1778868000-1778878800@myshinycastle.com
SUMMARY:Crochet Guild & Social Crafting Meetup
DESCRIPTION:Bring your favorite craft and join us for a couple of hours of socializing and crafting.
URL:https://myshinycastle.com/event/crochet-guild-social-crafting-meetup-7/
LOCATION:Hollyhills Event Center (Downstairs)\, 19200 Hollyhills Dr NE\, Bothell\, WA\, 98021\, United States
ATTACH;FMTTYPE=image/png:https://myshinycastle.com/wp-content/uploads/2025/10/Crochet-Guild.png
ORGANIZER;CN="Kim Gronquist":MAILTO:kim@myshinycastle.com
END:VEVENT
BEGIN:VEVENT
DTSTART;TZID=America/Vancouver:20260605T180000
DTEND;TZID=America/Vancouver:20260605T210000
DTSTAMP:20260423T151936
CREATED:20260226T044426Z
LAST-MODIFIED:20260226T044426Z
UID:2233-1780682400-1780693200@myshinycastle.com
SUMMARY:Social Crafting Meetup
DESCRIPTION:Bring your favorite craft and join us for a couple of hours of socializing and crafting.
URL:https://myshinycastle.com/event/social-crafting-meetup-7/
LOCATION:Hollyhills Event Center (Downstairs)\, 19200 Hollyhills Dr NE\, Bothell\, WA\, 98021\, United States
ATTACH;FMTTYPE=image/png:https://myshinycastle.com/wp-content/uploads/2025/10/Crochet-Guild.png
ORGANIZER;CN="Kim Gronquist":MAILTO:kim@myshinycastle.com
END:VEVENT
BEGIN:VEVENT
DTSTART;TZID=America/Vancouver:20260619T180000
DTEND;TZID=America/Vancouver:20260619T210000
DTSTAMP:20260423T151936
CREATED:20260226T044058Z
LAST-MODIFIED:20260226T044141Z
UID:2229-1781892000-1781902800@myshinycastle.com
SUMMARY:Crochet Guild & Social Crafting Meetup
DESCRIPTION:Bring your favorite craft and join us for a couple of hours of socializing and crafting.
URL:https://myshinycastle.com/event/crochet-guild-social-crafting-meetup-8/
LOCATION:Hollyhills Event Center (Downstairs)\, 19200 Hollyhills Dr NE\, Bothell\, WA\, 98021\, United States
ATTACH;FMTTYPE=image/png:https://myshinycastle.com/wp-content/uploads/2025/10/Crochet-Guild.png
ORGANIZER;CN="Kim Gronquist":MAILTO:kim@myshinycastle.com
END:VEVENT
END:VCALENDAR